BEGIN:VCALENDAR
VERSION:2.0
PRODID:-//CONGRE - ECPv6.15.20//NONSGML v1.0//EN
CALSCALE:GREGORIAN
METHOD:PUBLISH
X-WR-CALNAME:CONGRE
X-ORIGINAL-URL:https://congre.fr
X-WR-CALDESC:Évènements pour CONGRE
REFRESH-INTERVAL;VALUE=DURATION:PT1H
X-Robots-Tag:noindex
X-PUBLISHED-TTL:PT1H
BEGIN:VTIMEZONE
TZID:Europe/Paris
BEGIN:DAYLIGHT
TZOFFSETFROM:+0100
TZOFFSETTO:+0200
TZNAME:CEST
DTSTART:20250330T010000
END:DAYLIGHT
BEGIN:STANDARD
TZOFFSETFROM:+0200
TZOFFSETTO:+0100
TZNAME:CET
DTSTART:20251026T010000
END:STANDARD
BEGIN:DAYLIGHT
TZOFFSETFROM:+0100
TZOFFSETTO:+0200
TZNAME:CEST
DTSTART:20260329T010000
END:DAYLIGHT
BEGIN:STANDARD
TZOFFSETFROM:+0200
TZOFFSETTO:+0100
TZNAME:CET
DTSTART:20261025T010000
END:STANDARD
BEGIN:DAYLIGHT
TZOFFSETFROM:+0100
TZOFFSETTO:+0200
TZNAME:CEST
DTSTART:20270328T010000
END:DAYLIGHT
BEGIN:STANDARD
TZOFFSETFROM:+0200
TZOFFSETTO:+0100
TZNAME:CET
DTSTART:20271031T010000
END:STANDARD
END:VTIMEZONE
BEGIN:VEVENT
DTSTART;TZID=Europe/Paris:20260326T180000
DTEND;TZID=Europe/Paris:20260326T210000
DTSTAMP:20260424T203757
CREATED:20260323T183238Z
LAST-MODIFIED:20260323T183259Z
UID:4528-1774548000-1774558800@congre.fr
SUMMARY:Bernard-Gabriel Lafabrie à la galerie Hus
DESCRIPTION:Exposition et soirée à la Galerie HUS en l’honneur de Bernard-Gabriel Lafabrie\, artiste\, éditeur\, lithographe et accessoirement très bon ami de Congre.\nCongre co-édite pour l’occasion deux livres avec la Galerie HUS et l’Imprimerie d’Alsace-Lozère : BGL livré par Bastien Fery.
URL:https://congre.fr/evenement/bernard-gabriel-lafabrie-a-la-galerie-hus/
LOCATION:Galerie Hus\, 4 rue Aristide Bruant\, Paris\, 75018\, France
END:VEVENT
END:VCALENDAR